BEGIN:VCALENDAR
VERSION:2.0
PRODID:-//wp-events-plugin.com//7.2.3.1//EN
TZID:Europe/Berlin
X-WR-TIMEZONE:Europe/Berlin
BEGIN:VEVENT
UID:11@flyingmoins.de
DTSTART;TZID=Europe/Berlin:20260429T000000
DTEND;TZID=Europe/Berlin:20260429T000000
DTSTAMP:20260422T141736Z
URL:https://flyingmoins.de/termine/fanclub-treffen-im-april-2025/
SUMMARY:Fanclub-Treffen im April 2025
DESCRIPTION:Meldet euch gleich an zum Spargelessen am 29. April
ATTACH;FMTTYPE=image/jpeg:https://flyingmoins.de/wp-content/uploads/2022/0
 5/asparagus-3302501-scaled.jpg
LOCATION:Kleingarten Stadtfeld - Gaststätte\, Johann-Justus-Weg 156\, Olde
 nburg\, 26127\, Deutschland
X-APPLE-STRUCTURED-LOCATION;VALUE=URI;X-ADDRESS=Johann-Justus-Weg 156\, Old
 enburg\, 26127\, Deutschland;X-APPLE-RADIUS=100;X-TITLE=Kleingarten Stadtf
 eld - Gaststätte:geo:0,0
END:VEVENT
BEGIN:VTIMEZONE
TZID:Europe/Berlin
X-LIC-LOCATION:Europe/Berlin
BEGIN:DAYLIGHT
DTSTART:20260329T030000
TZOFFSETFROM:+0100
TZOFFSETTO:+0200
TZNAME:CEST
END:DAYLIGHT
END:VTIMEZONE
END:VCALENDAR